BEGIN:VCALENDAR
PRODID:-//github.com/rianjs/ical.net//NONSGML ical.net 4.0//EN
VERSION:2.0
BEGIN:VEVENT
DTEND;VALUE=DATE:20230616
DTSTAMP:20260419T123119Z
DTSTART;VALUE=DATE:20230614
SEQUENCE:0
SUMMARY:2023 Pennsylvania Computer Science For All Summit
UID:0d2ea265-c9f4-4680-8b88-20df6cd73002
X-ALT-DESC;FMTTYPE=text/html:<p>The Sixth Annual Pennsylvania Computer Sci
 ence for All (CSforAllPA) Summit theme\, All Together Now\, represents co
 re tenants of CSinPA. Throughout the CSforAllPA Summit\, educators\, lead
 ers\, and stakeholders have the opportunity to share\, discuss\, and coll
 aboratively develop tools\, resources\, and practices for CS learning exp
 eriences. The Summit specifically focuses on equitably serving historical
 ly under-served populations including students with disabilities\, Englis
 h Learners\, and females.</p>
END:VEVENT
END:VCALENDAR
