BEGIN:VCALENDAR
PRODID:-//github.com/rianjs/ical.net//NONSGML ical.net 4.0//EN
VERSION:2.0
BEGIN:VEVENT
DTEND;VALUE=DATE:20240421
DTSTAMP:20260423T161811Z
DTSTART;VALUE=DATE:20240417
SEQUENCE:0
SUMMARY:2024 PA-TSA Conference
UID:d7f6457d-48a3-49bc-b89c-4df95970433a
X-ALT-DESC;FMTTYPE=text/html:<p>Pennsylvania Technology Student Associatio
 n State Leadership Conference</p>
END:VEVENT
END:VCALENDAR
